BEGIN:VCALENDAR
VERSION:2.0
PRODID:https://github.com/derhansen/sf_event_mgt
METHOD:PUBLISH
BEGIN:VEVENT
UID:314-148@sems.ch
CLASS: PUBLIC
SUMMARY:Ortho-Einsatz in Palästina – Médecin Sans Frontières
DESCRIPTION:
LOCATION:St. Gallen
DTSTAMP:20210809T130329Z
DTSTART:20210302T104900Z
DTEND:20210302T140300Z
END:VEVENT
END:VCALENDAR
