BEGIN:VCALENDAR
VERSION:2.0
PRODID:https://github.com/derhansen/sf_event_mgt
METHOD:PUBLISH
BEGIN:VEVENT
UID:639-148@sems.ch
CLASS: PUBLIC
SUMMARY:Physioswiss Kongress
DESCRIPTION:
LOCATION:Basel
DTSTAMP:20250919T123929Z
DTSTART:20251024T073000Z
DTEND:20251025T150000Z
END:VEVENT
END:VCALENDAR
