BEGIN:VCALENDAR
VERSION:2.0
PRODID:https://github.com/derhansen/sf_event_mgt
METHOD:PUBLISH
BEGIN:VEVENT
UID:457-148@sems.ch
CLASS: PUBLIC
SUMMARY:Principles of Sports Medicine - The Joint is an Organ
DESCRIPTION:
LOCATION:Davos
DTSTAMP:20221116T154812Z
DTSTART:20221207T100400Z
DTEND:20221208T110400Z
END:VEVENT
END:VCALENDAR
