BEGIN:VCALENDAR
VERSION:2.0
PRODID:https://github.com/derhansen/sf_event_mgt
METHOD:PUBLISH
BEGIN:VEVENT
UID:587-148@sems.ch
CLASS: PUBLIC
SUMMARY:Reha meets Technology - Technology meets Reha
DESCRIPTION:
LOCATION:Zürich
DTSTAMP:20240701T095624Z
DTSTART:20241017T070000Z
DTEND:20241018T070000Z
END:VEVENT
END:VCALENDAR
