BEGIN:VCALENDAR
VERSION:2.0
PRODID:https://github.com/derhansen/sf_event_mgt
METHOD:PUBLISH
BEGIN:VEVENT
UID:445-148@sems.ch
CLASS: PUBLIC
SUMMARY:Reha Schweiz Kongress
DESCRIPTION:
LOCATION:Landquart
DTSTAMP:20250915T142251Z
DTSTART:20230330T095100Z
DTEND:20230331T105100Z
END:VEVENT
END:VCALENDAR
