BEGIN:VCALENDAR
VERSION:2.0
PRODID:https://github.com/derhansen/sf_event_mgt
METHOD:PUBLISH
BEGIN:VEVENT
UID:522-148@sems.ch
CLASS: PUBLIC
SUMMARY:Jubiläumskongress SEMS 2024
DESCRIPTION:Kongress Website
LOCATION:Bern
DTSTAMP:20240821T102009Z
DTSTART:20241114T070000Z
DTEND:20241115T153000Z
END:VEVENT
END:VCALENDAR
