BEGIN:VCALENDAR
VERSION:2.0
PRODID:https://github.com/derhansen/sf_event_mgt
METHOD:PUBLISH
BEGIN:VEVENT
UID:686-148@sems.ch
CLASS: PUBLIC
SUMMARY:Sportverletzung an Sehne und Muskel: wie behandeln?
DESCRIPTION:
LOCATION:Basel
DTSTAMP:20250815T123449Z
DTSTART:20251023T123100Z
DTEND:20251023T133100Z
END:VEVENT
END:VCALENDAR
