BEGIN:VCALENDAR
VERSION:2.0
PRODID:https://github.com/derhansen/sf_event_mgt
METHOD:PUBLISH
BEGIN:VEVENT
UID:683-148@sems.ch
CLASS: PUBLIC
SUMMARY:Symposium Frau und Sport
DESCRIPTION:
LOCATION:Thun
DTSTAMP:20250811T142906Z
DTSTART:20250918T142400Z
DTEND:20250918T142400Z
END:VEVENT
END:VCALENDAR
