BEGIN:VCALENDAR
VERSION:2.0
PRODID:https://github.com/derhansen/sf_event_mgt
METHOD:PUBLISH
BEGIN:VEVENT
UID:719-148@sems.ch
CLASS: PUBLIC
SUMMARY:Wintersymposium - Update Schulterverletzungen 2026
DESCRIPTION:
LOCATION:Speicher
DTSTAMP:20260130T131615Z
DTSTART:20260312T131300Z
DTEND:20260312T141300Z
END:VEVENT
END:VCALENDAR
