BEGIN:VCALENDAR
VERSION:2.0
PRODID:https://github.com/derhansen/sf_event_mgt
METHOD:PUBLISH
BEGIN:VEVENT
UID:551-148@sems.ch
CLASS: PUBLIC
SUMMARY:XIV. Interventional Cadaver Course
DESCRIPTION:
LOCATION:Basel
DTSTAMP:20240208T100306Z
DTSTART:20240927T082200Z
DTEND:20240928T092200Z
END:VEVENT
END:VCALENDAR
