BEGIN:VCALENDAR
VERSION:2.0
PRODID:https://github.com/derhansen/sf_event_mgt
METHOD:PUBLISH
BEGIN:VEVENT
UID:172-148@sems.ch
CLASS: PUBLIC
SUMMARY:9. Sportmedizinsymposium: Das 1x1 der Sportmedizin
DESCRIPTION:
LOCATION:Luzern
DTSTAMP:20210809T093929Z
DTSTART:20191105T140100Z
DTEND:20191105T103900Z
END:VEVENT
END:VCALENDAR
