BEGIN:VCALENDAR
VERSION:2.0
PRODID:https://github.com/derhansen/sf_event_mgt
METHOD:PUBLISH
BEGIN:VEVENT
UID:504-148@sems.ch
CLASS: PUBLIC
SUMMARY:Aggiornamento in medicina dello sport
DESCRIPTION:
LOCATION:Tenero
DTSTAMP:20230921T110221Z
DTSTART:20231019T080400Z
END:VEVENT
END:VCALENDAR
