BEGIN:VCALENDAR
VERSION:2.0
PRODID:https://github.com/derhansen/sf_event_mgt
METHOD:PUBLISH
BEGIN:VEVENT
UID:745-148@sems.ch
CLASS: PUBLIC
SUMMARY:Conférence sur la coiffe des rotateurs : nouveau repère 2026 pour l
 a médecin de premier recours
DESCRIPTION:
LOCATION:Neuchâtel
DTSTAMP:20260420T131647Z
DTSTART:20260618T131200Z
DTEND:20260618T141200Z
END:VEVENT
END:VCALENDAR
