BEGIN:VCALENDAR
VERSION:2.0
PRODID:https://github.com/derhansen/sf_event_mgt
METHOD:PUBLISH
BEGIN:VEVENT
UID:702-148@sems.ch
CLASS: PUBLIC
SUMMARY:Congrès Medicol 2025 - Actualités en chirurgie de la main et chirur
 gie de l'épaule
DESCRIPTION:
LOCATION:Lausanne
DTSTAMP:20251107T072236Z
DTSTART:20260327T072100Z
DTEND:20260327T082100Z
END:VEVENT
END:VCALENDAR
