BEGIN:VCALENDAR
VERSION:2.0
PRODID:https://github.com/derhansen/sf_event_mgt
METHOD:PUBLISH
BEGIN:VEVENT
UID:481-148@sems.ch
CLASS: PUBLIC
SUMMARY:Evaluation en MPR
DESCRIPTION:
LOCATION:Lausanne
DTSTAMP:20230216T122706Z
DTSTART:20230303T201400Z
END:VEVENT
END:VCALENDAR
