BEGIN:VCALENDAR
VERSION:2.0
PRODID:https://github.com/derhansen/sf_event_mgt
METHOD:PUBLISH
BEGIN:VEVENT
UID:464-148@sems.ch
CLASS: PUBLIC
SUMMARY:Hanche - De la douleur au retour au sport
DESCRIPTION:
LOCATION:Lausanne
DTSTAMP:20221223T161906Z
DTSTART:20230209T124600Z
END:VEVENT
END:VCALENDAR
