BEGIN:VCALENDAR
VERSION:2.0
PRODID:https://github.com/derhansen/sf_event_mgt
METHOD:PUBLISH
BEGIN:VEVENT
UID:292-148@sems.ch
CLASS: PUBLIC
SUMMARY:International Conference on Sports Psychiatry ICSP | Jahrestagung S
 GSPP / DGSPP
DESCRIPTION:
LOCATION:Zürich
DTSTAMP:20200924T133510Z
DTSTART:20210122T142500Z
DTEND:20210123T152500Z
END:VEVENT
END:VCALENDAR
