BEGIN:VCALENDAR
VERSION:2.0
PRODID:https://github.com/derhansen/sf_event_mgt
METHOD:PUBLISH
BEGIN:VEVENT
UID:28-148@sems.ch
CLASS: PUBLIC
SUMMARY:Kühler Kopf bei Wintersportverletzungen – diagnostische Fallstricke
DESCRIPTION:
LOCATION:Muttenz
DTSTAMP:20210713T094438Z
DTSTART:20181114T154800Z
DTEND:20181114T104400Z
END:VEVENT
END:VCALENDAR
