BEGIN:VCALENDAR
VERSION:2.0
PRODID:https://github.com/derhansen/sf_event_mgt
METHOD:PUBLISH
BEGIN:VEVENT
UID:547-148@sems.ch
CLASS: PUBLIC
SUMMARY:Parietale Osteopathie - Myofascial 2
DESCRIPTION:
LOCATION:Diessenhofen
DTSTAMP:20240112T092935Z
DTSTART:20240125T092600Z
DTEND:20240127T102600Z
END:VEVENT
END:VCALENDAR
