BEGIN:VCALENDAR
VERSION:2.0
PRODID:https://github.com/derhansen/sf_event_mgt
METHOD:PUBLISH
BEGIN:VEVENT
UID:684-148@sems.ch
CLASS: PUBLIC
SUMMARY:OnWinterTour 2026
DESCRIPTION:
LOCATION:Hopfgarten (AT)
DTSTAMP:20250815T121211Z
DTSTART:20260128T125700Z
DTEND:20260201T135700Z
END:VEVENT
END:VCALENDAR
