BEGIN:VCALENDAR
VERSION:2.0
PRODID:https://github.com/derhansen/sf_event_mgt
METHOD:PUBLISH
BEGIN:VEVENT
UID:328-148@sems.ch
CLASS: PUBLIC
SUMMARY:Sport, Exercice et Muscles
DESCRIPTION:
LOCATION:online
DTSTAMP:20210809T130404Z
DTSTART:20210318T103100Z
DTEND:20210318T140300Z
END:VEVENT
END:VCALENDAR
