BEGIN:VCALENDAR
VERSION:2.0
PRODID:https://github.com/derhansen/sf_event_mgt
METHOD:PUBLISH
BEGIN:VEVENT
UID:7-148@sems.ch
CLASS: PUBLIC
SUMMARY:Symposium Bewegt Sport!
DESCRIPTION:
LOCATION:Zürich
DTSTAMP:20181109T100306Z
DTSTART:20181109T132900Z
DTEND:20181109T132900Z
END:VEVENT
END:VCALENDAR
