BEGIN:VCALENDAR
VERSION:2.0
PRODID:https://github.com/derhansen/sf_event_mgt
METHOD:PUBLISH
BEGIN:VEVENT
UID:386-148@sems.ch
CLASS: PUBLIC
SUMMARY:Symposium interdisciplinaire: prise en charge de la rupture du liga
 ment croisé antérieur (LCA)
DESCRIPTION:
LOCATION:Genève
DTSTAMP:20211108T160006Z
DTSTART:20211118T112300Z
END:VEVENT
END:VCALENDAR
