BEGIN:VCALENDAR
VERSION:2.0
PRODID:https://github.com/derhansen/sf_event_mgt
METHOD:PUBLISH
BEGIN:VEVENT
UID:714-148@sems.ch
CLASS: PUBLIC
SUMMARY:Thérapie des trigger points myofasciaux Cours A1
DESCRIPTION:
LOCATION:Morat
DTSTAMP:20260123T090304Z
DTSTART:20260625T075400Z
DTEND:20260628T085400Z
END:VEVENT
END:VCALENDAR
