BEGIN:VCALENDAR
VERSION:2.0
PRODID:https://github.com/derhansen/sf_event_mgt
METHOD:PUBLISH
BEGIN:VEVENT
UID:230-148@sems.ch
CLASS: PUBLIC
SUMMARY:Colloque de médecine du sport
DESCRIPTION:
LOCATION:Neuchâtel
DTSTAMP:20210809T091854Z
DTSTART:20190827T113500Z
DTEND:20190827T091800Z
END:VEVENT
END:VCALENDAR
