BEGIN:VCALENDAR
VERSION:2.0
PRODID:https://github.com/derhansen/sf_event_mgt
METHOD:PUBLISH
BEGIN:VEVENT
UID:699-148@sems.ch
CLASS: PUBLIC
SUMMARY:21. SSMT 2025: Konservative Orthopädie: Praxis und Wissenschaft - S
 chultergürtel 360°
DESCRIPTION:
LOCATION:Pratteln
DTSTAMP:20251010T145642Z
DTSTART:20251022T145500Z
DTEND:20251022T155500Z
END:VEVENT
END:VCALENDAR
