BEGIN:VCALENDAR
VERSION:2.0
PRODID:https://github.com/derhansen/sf_event_mgt
METHOD:PUBLISH
BEGIN:VEVENT
UID:322-148@sems.ch
CLASS: PUBLIC
SUMMARY:Korsetttherapie bei Cerebraler Parese & Adaptation des Knorpels und
  Knochens im Wachstum
DESCRIPTION:
LOCATION:St. Gallen
DTSTAMP:20210713T094237Z
DTSTART:20211109T104900Z
DTEND:20211109T104200Z
END:VEVENT
END:VCALENDAR
