BEGIN:VCALENDAR
VERSION:2.0
PRODID:https://github.com/derhansen/sf_event_mgt
METHOD:PUBLISH
BEGIN:VEVENT
UID:370-148@sems.ch
CLASS: PUBLIC
SUMMARY:Sport, Exercice et handicaps
DESCRIPTION:
LOCATION:Lausanne
DTSTAMP:20210820T143744Z
DTSTART:20210924T093400Z
DTEND:20210924T103400Z
END:VEVENT
END:VCALENDAR
