BEGIN:VCALENDAR
VERSION:2.0
PRODID:https://github.com/derhansen/sf_event_mgt
METHOD:PUBLISH
BEGIN:VEVENT
UID:452-148@sems.ch
CLASS: PUBLIC
SUMMARY:2e Symposium sur la Prévention des Blessures dans le Sport
DESCRIPTION:
LOCATION:Luxembourg
DTSTAMP:20221007T091123Z
DTSTART:20221014T084300Z
DTEND:20221015T094300Z
END:VEVENT
END:VCALENDAR
