BEGIN:VCALENDAR
VERSION:2.0
PRODID:https://github.com/derhansen/sf_event_mgt
METHOD:PUBLISH
BEGIN:VEVENT
UID:634-148@sems.ch
CLASS: PUBLIC
SUMMARY:Thérapie des trigger points myofasciaux Cours A2
DESCRIPTION:
LOCATION:Murten
DTSTAMP:20250505T144841Z
DTSTART:20250904T060000Z
DTEND:20250907T150000Z
END:VEVENT
END:VCALENDAR
